BEGIN:VCALENDAR
VERSION:2.0
PRODID:-//wp-events-plugin.com//7.2.3.1//EN
TZID:Europe/Vienna
X-WR-TIMEZONE:Europe/Vienna
BEGIN:VEVENT
UID:74@unsere-zeitung.at
DTSTART;TZID=Europe/Vienna;VALUE=DATE:20260605
DTEND;TZID=Europe/Vienna;VALUE=DATE:20260608
DTSTAMP:20250921T011544Z
URL:https://www.unsere-zeitung.at/events/festival-des-politischen-liedes-2
 026/
SUMMARY:Festival des politischen Liedes 2026
DESCRIPTION:
ATTACH;FMTTYPE=image/jpeg:https://www.unsere-zeitung.at/wp-content/uploads
 /2016/06/Festival2016-7.jpg
CATEGORIES:Festival
LOCATION:Europacamp\, Franz-von-Schönthan-Allee 42\, Weißenbach am Atters
 ee\, Oberösterreich\, 4854\, Österreich
X-APPLE-STRUCTURED-LOCATION;VALUE=URI;X-ADDRESS=Franz-von-Schönthan-Allee 
 42\, Weißenbach am Attersee\, Oberösterreich\, 4854\, Österreich;X-APPL
 E-RADIUS=100;X-TITLE=Europacamp:geo:0,0
END:VEVENT
BEGIN:VTIMEZONE
TZID:Europe/Vienna
X-LIC-LOCATION:Europe/Vienna
BEGIN:DAYLIGHT
DTSTART:20260329T030000
TZOFFSETFROM:+0100
TZOFFSETTO:+0200
TZNAME:CEST
END:DAYLIGHT
END:VTIMEZONE
END:VCALENDAR