BEGIN:VCALENDAR
VERSION:2.0
PRODID:-//wp-events-plugin.com//7.2.3.1//EN
TZID:Europe/Vienna
X-WR-TIMEZONE:Europe/Vienna
BEGIN:VEVENT
UID:97@unsere-zeitung.at
DTSTART;TZID=Europe/Vienna:20260619T093000
DTEND;TZID=Europe/Vienna:20260620T200000
DTSTAMP:20260421T094649Z
URL:https://www.unsere-zeitung.at/events/sol-symposium-wirtschaft-wohlstan
 d-klima-und-du/
SUMMARY:SOL-Symposium "Wirtschaft - Wohlstand - Klima ... und DU!"
DESCRIPTION:„Nichts ist mehr leistbar“\, hört man immer wieder. Wir wo
 llen wissen\, für wen das wirklich stimmt und welche politischen Kräfte 
 das nur zum Stimmenzuwachs nutzen. Wie sieht es mit der „Schere zwischen
  Arm und Reich“ wirklich aus? Und ist „gutes Leben“ nicht mehr als n
 ur materieller Wohlstand – etwa Beziehungswohlstand\, Zeitwohlstand\, Ge
 wissenswohlstand? \n\nVerarmungsängste lassen die Klimakrise in den Hinte
 rgrund treten. Gut für die Fossilkonzerne - schlecht für unsere Zukunft.
  Dazu passend gibt es massive Desinformationskampagnen: „Der Mensch ist 
 nicht die Hauptursache für den Klimawandel!“\, „Rascher technischer F
 ortschritt und Wirtschaftswachstum können den Planeten retten!“\, „Es
  ist ohnehin schon zu spät!“. Auch auf diese „Sager“ haben sich pol
 itische Parteien „draufgesetzt“.\n\nEin wichtiger Punkt des Symposiums
  werden auch die verschiedenen Vorstellungen über die Welt und die Wirtsc
 haft des Jahres 2050 sein.\n\nWir nähern uns diesen Themen mit hochkarät
 igen Fachleuten und vielfältigen Methoden (Wegener-Institut für Klimafor
 schung Graz\, Robert-Jungk-Bibliothek Salzburg\, Arbeiterkammer Wien\, Hoc
 hschule für Angewandte Wissenschaften Potsdam\, Universität Krems u.v.m.
 ).\n\nEin besonderes Highlight bietet das SOG-Theater: Die Ästhetik des T
 heaters wirkt transformierend\, verwebt individuelle Erfahrungen mit ander
 en Perspektiven und bringt die Reflexion des Publikums in einer besonderen
  Art auf die Bühne. 
LOCATION:Bildungszentrum St. Bernhard\, Domplatz 1\, Wiener Neustadt\, Nied
 erösterreich\, 2700\, Österreich
X-APPLE-STRUCTURED-LOCATION;VALUE=URI;X-ADDRESS=Domplatz 1\, Wiener Neustad
 t\, Niederösterreich\, 2700\, Österreich;X-APPLE-RADIUS=100;X-TITLE=Bild
 ungszentrum St. Bernhard:geo:0,0
END:VEVENT
BEGIN:VTIMEZONE
TZID:Europe/Vienna
X-LIC-LOCATION:Europe/Vienna
BEGIN:DAYLIGHT
DTSTART:20260329T030000
TZOFFSETFROM:+0100
TZOFFSETTO:+0200
TZNAME:CEST
END:DAYLIGHT
END:VTIMEZONE
END:VCALENDAR